BEGIN:VCALENDAR
VERSION:2.0
PRODID:-//Christian Dental Society - ECPv6.15.20//NONSGML v1.0//EN
CALSCALE:GREGORIAN
METHOD:PUBLISH
X-ORIGINAL-URL:https://christiandental.org
X-WR-CALDESC:Events for Christian Dental Society
REFRESH-INTERVAL;VALUE=DURATION:PT1H
X-Robots-Tag:noindex
X-PUBLISHED-TTL:PT1H
BEGIN:VTIMEZONE
TZID:America/New_York
BEGIN:DAYLIGHT
TZOFFSETFROM:-0500
TZOFFSETTO:-0400
TZNAME:EDT
DTSTART:20240310T070000
END:DAYLIGHT
BEGIN:STANDARD
TZOFFSETFROM:-0400
TZOFFSETTO:-0500
TZNAME:EST
DTSTART:20241103T060000
END:STANDARD
BEGIN:DAYLIGHT
TZOFFSETFROM:-0500
TZOFFSETTO:-0400
TZNAME:EDT
DTSTART:20250309T070000
END:DAYLIGHT
BEGIN:STANDARD
TZOFFSETFROM:-0400
TZOFFSETTO:-0500
TZNAME:EST
DTSTART:20251102T060000
END:STANDARD
BEGIN:DAYLIGHT
TZOFFSETFROM:-0500
TZOFFSETTO:-0400
TZNAME:EDT
DTSTART:20260308T070000
END:DAYLIGHT
BEGIN:STANDARD
TZOFFSETFROM:-0400
TZOFFSETTO:-0500
TZNAME:EST
DTSTART:20261101T060000
END:STANDARD
END:VTIMEZONE
BEGIN:VEVENT
DTSTART;TZID=America/New_York:20250321T080000
DTEND;TZID=America/New_York:20250323T170000
DTSTAMP:20260421T075618
CREATED:20240822T085924Z
LAST-MODIFIED:20241017T042722Z
UID:25834854-1742544000-1742749200@christiandental.org
SUMMARY:Hinman Dental Meeting in Atlanta\, GA
DESCRIPTION:Hinman Dental Meeting in Atlanta\, GA with Dr. David Moretz and Dr. Randy Sanders exhibiting.
URL:https://christiandental.org/calendar/hinman-dental-meeting-in-atlanta-ga/
LOCATION:Colorado
END:VEVENT
BEGIN:VEVENT
DTSTART;TZID=America/New_York:20250327T080000
DTEND;TZID=America/New_York:20250329T170000
DTSTAMP:20260421T075618
CREATED:20240822T090003Z
LAST-MODIFIED:20241017T042722Z
UID:25834856-1743062400-1743267600@christiandental.org
SUMMARY:Star of the South dental meeting in Houston\, TX
DESCRIPTION:Star of the South dental meeting in Houston\, Tx or the Western Regional Dental conference in Phoenix\, Arizona with Drs. Bob and Diane Meyer exhibiting.
URL:https://christiandental.org/calendar/star-of-the-south-dental-meeting-in-houston-tx/
LOCATION:Colorado
END:VEVENT
END:VCALENDAR